BEGIN:VCALENDAR
VERSION:2.0
PRODID:-//Samuel Jackman Prescod Institute of Technology - ECPv5.8.2//NONSGML v1.0//EN
CALSCALE:GREGORIAN
METHOD:PUBLISH
X-WR-CALNAME:Samuel Jackman Prescod Institute of Technology
X-ORIGINAL-URL:https://sjpi.edu.bb
X-WR-CALDESC:Events for Samuel Jackman Prescod Institute of Technology
BEGIN:VTIMEZONE
TZID:America/Halifax
BEGIN:DAYLIGHT
TZOFFSETFROM:-0400
TZOFFSETTO:-0300
TZNAME:ADT
DTSTART:20190310T060000
END:DAYLIGHT
BEGIN:STANDARD
TZOFFSETFROM:-0300
TZOFFSETTO:-0400
TZNAME:AST
DTSTART:20191103T050000
END:STANDARD
END:VTIMEZONE
BEGIN:VEVENT
DTSTART;TZID=America/Halifax:20191109T000000
DTEND;TZID=America/Halifax:20191109T000000
DTSTAMP:20210822T104447
CREATED:20190114T212754Z
LAST-MODIFIED:20190114T213032Z
UID:4141-1573257600-1573257600@sjpi.edu.bb
SUMMARY:Graduation
DESCRIPTION:Graduation
URL:https://sjpi.edu.bb/?tribe_events=graduation
CATEGORIES:Important,SJPI Events for Students,Staff,Students
END:VEVENT
END:VCALENDAR